BEGIN:VCALENDAR
VERSION:2.0
PRODID:St. Augustinus Kliniken Karriere
BEGIN:VEVENT
UID:69ece21f6c4f9
DTSTART:20230525T083000Z
SEQUENCE:0
TRANSP:OPAQUE
DTEND:20230525T130000Z
LOCATION:Erzbischöfliches Berufskolleg
X-APPLE-STRUCTURED-LOCATION;VALUE=URI;X-ADDRESS=Erzbischöfliches Berufskol
 leg;X-APPLE-RADIUS=49;X-TITLE=:geo:51.201350,6.683410
GEO:51.201350;6.683410
SUMMARY:Check in Day Neuss
CLASS:PUBLIC
DESCRIPTION:„Unternehmen öffnen ihre Türen“ lautet bereits seit 2010 
 das Motto unter dem CHECK IN Berufswelt interessierte Jugendliche mit Ausb
 ildungsbetrieben zusammenführt.
DTSTAMP:20260425T174743Z
END:VEVENT
END:VCALENDAR